BEGIN:VCALENDAR
VERSION:2.0
PRODID:-//Black American Market - ECPv6.15.13.1//NONSGML v1.0//EN
CALSCALE:GREGORIAN
METHOD:PUBLISH
X-WR-CALNAME:Black American Market
X-ORIGINAL-URL:https://bam.pramukh.pe.hu
X-WR-CALDESC:Events for Black American Market
REFRESH-INTERVAL;VALUE=DURATION:PT1H
X-Robots-Tag:noindex
X-PUBLISHED-TTL:PT1H
BEGIN:VTIMEZONE
TZID:UTC
BEGIN:STANDARD
TZOFFSETFROM:+0000
TZOFFSETTO:+0000
TZNAME:UTC
DTSTART:20240101T000000
END:STANDARD
END:VTIMEZONE
BEGIN:VEVENT
DTSTART;TZID=UTC:20250125T080000
DTEND;TZID=UTC:20250125T170000
DTSTAMP:20260422T083634
CREATED:20250115T161305Z
LAST-MODIFIED:20250115T161502Z
UID:21457-1737792000-1737824400@bam.pramukh.pe.hu
SUMMARY:Sample Test Events
DESCRIPTION:
URL:https://bam.pramukh.pe.hu/event/sample-test-events/
LOCATION:US\, AL\, United States
ATTACH;FMTTYPE=image/png:https://bam.pramukh.pe.hu/wp-content/uploads/2025/01/1b450bc109797a19a7278d6aa1479808-768x768-1.png
ORGANIZER;CN="Mariah Bailey":MAILTO:support@blackamericanmarket.net
END:VEVENT
END:VCALENDAR